BEGIN:VCALENDAR
VERSION:2.0
PRODID:-//eventon.com NONSGML v1.0//EN
BEGIN:VEVENT
UID:69e4d09225cea
DTSTAMP:20260419T195442
DTSTART:20240611T000000Z
DTEND:20240611T040000Z
TZID:Asia/Jakarta
LOCATION:
SUMMARY:Yusuf Roni (Aqad)
DESCRIPTION: Yusuf Roni (Aqad)\nhttps://mujahidinpontianak.com/events/yusuf-roni-aqad/
URL:https://mujahidinpontianak.com/events/yusuf-roni-aqad/
END:VEVENT
END:VCALENDAR